Workbook

Sheet intro
A1: Sjabloon melding gunningen, stand van zaken werken en opvolging bouwkost
A3: Met dit ingevuld sjabloon bezorgt u het VIPA de gegevens van de gunning(en) van uw gesubsidieerd project en kan u een overzicht van de bouwkost per projectonderdeel per bouwfase bijhouden. - U bezorgt het VIPA een aangepaste versie van dit overzicht bij elke aanvraag tot betaling van een subsidieschijf. - Bij een evaluatiemoment (tijdens de werken of 1 jaar na ingebruikname) wordt dit overzicht gebruikt voor de analyse.
A5: 1. Tabblad 1 'overzicht gunningen'. Per gunning vult u een lijn ingevuld met de essentiële gegevens van elke aanbesteding. Alle vakjes dienen ingevuld te worden, voor zover ze op het moment van het invullen al bekend zijn.
A6: U geeft daarbij ook aan onder welk projectonderdeel deze gunning valt:
A7: - 1_Ruwbouw
A8: - 2_Technische Uitrusting
A9: - 3_Afwerking
A10: - 4_Losse Uitrusting en Meubilering
A11: - Andere: afbraakwerken
A12: - Andere: omgevingswerken
A14: In de rubriek 'bedragen procedure' vult u de essentiële bedragen in.
A15: In de rubriek 'tijdslijn procedure' vult u de essentiële data van de procedure in.
... A27: http://www4wvg.vlaanderen.be/wvg/vipa/contact/Paginas/Medewerkersteamdossierbeheer.aspx

Sheet overzicht gunningen
B2: Naam voorziening | C2: 0
B3: VIPA projectnummer | C3: 0
J5: bedragen procedure | O5: tijdslijn procedure
A6: Lot | B6: Naam Lot | C6: Projectonderdeel | D6: Onroerend of roerend | E6: Wijze van gunning | F6: aantal inschrijvers | G6: aantal geldige inschrijvers | H6: Naam opdrachtnemer | I6: KBO-nummer opdrachtnemer | J6: Raming (exl. BTW) | K6: Gunningsbedrag (excl. BTW) | L6: Meerwerken | M6: Minwerken | N6: Eindafrekening (excl. BTW) | O6: Datum opening der biedingen (dd/mm/jjjj) | P6: Datum bevel van aanvang | Q6: Datum start werken | R6: Datum PV voorlopige oplevering | S6: Datum PV definitieve oplevering
A7: 1 | C7: Kies een optie | D7: =IF($C7='gegevens rekenblad'!$A$17,"Roerend",IF('overzicht gunningen'!$C7='gegevens rekenblad'!$A$12,"","Onroerend")) | E7: kies een optie | J7: 0 | K7: 0 | L7: 0 | M7: 0 | N7: 0
A8: 2 | C8: Kies een optie | D8: =IF($C8='gegevens rekenblad'!$A$17,"Roerend",IF('overzicht gunningen'!$C8='gegevens rekenblad'!$A$12,"","Onroerend")) | E8: kies een optie | J8: 0 | K8: 0 | L8: 0 | M8: 0 | N8: 0
A9: 3 | C9: Kies een optie | D9: =IF($C9='gegevens rekenblad'!$A$17,"Roerend",IF('overzicht gunningen'!$C9='gegevens rekenblad'!$A$12,"","Onroerend")) | E9: kies een optie | J9: 0 | K9: 0 | L9: 0 | M9: 0 | N9: 0
A10: 4 | C10: Kies een optie | D10: =IF($C10='gegevens rekenblad'!$A$17,"Roerend",IF('overzicht gunningen'!$C10='gegevens rekenblad'!$A$12,"","Onroerend")) | E10: kies een optie | J10: 0 | K10: 0 | L10: 0 | M10: 0 | N10: 0
A11: 5 | C11: Kies een optie | D11: =IF($C11='gegevens rekenblad'!$A$17,"Roerend",IF('overzicht gunningen'!$C11='gegevens rekenblad'!$A$12,"","Onroerend")) | E11: kies een optie | J11: 0 | K11: 0 | L11: 0 | M11: 0 | N11: 0
A12: 6 | C12: Kies een optie | D12: =IF($C12='gegevens rekenblad'!$A$17,"Roerend",IF('overzicht gunningen'!$C12='gegevens rekenblad'!$A$12,"","Onroerend")) | E12: kies een optie | J12: 0 | K12: 0 | L12: 0 | M12: 0 | N12: 0
A13: 7 | C13: Kies een optie | D13: =IF($C13='gegevens rekenblad'!$A$17,"Roerend",IF('overzicht gunningen'!$C13='gegevens rekenblad'!$A$12,"","Onroerend")) | E13: kies een optie | J13: 0 | K13: 0 | L13: 0 | M13: 0 | N13: 0
A14: 8 | C14: Kies een optie | D14: =IF($C14='gegevens rekenblad'!$A$17,"Roerend",IF('overzicht gunningen'!$C14='gegevens rekenblad'!$A$12,"","Onroerend")) | E14: kies een optie | J14: 0 | K14: 0 | L14: 0 | M14: 0 | N14: 0
A15: 9 | C15: Kies een optie | D15: =IF($C15='gegevens rekenblad'!$A$17,"Roerend",IF('overzicht gunningen'!$C15='gegevens rekenblad'!$A$12,"","Onroerend")) | E15: kies een optie | J15: 0 | K15: 0 | L15: 0 | M15: 0 | N15: 0
A16: 10 | C16: Kies een optie | D16: =IF($C16='gegevens rekenblad'!$A$17,"Roerend",IF('overzicht gunningen'!$C16='gegevens rekenblad'!$A$12,"","Onroerend")) | E16: kies een optie | J16: 0 | K16: 0 | L16: 0 | M16: 0 | N16: 0
A17: 11 | C17: Kies een optie | D17: =IF($C17='gegevens rekenblad'!$A$17,"Roerend",IF('overzicht gunningen'!$C17='gegevens rekenblad'!$A$12,"","Onroerend")) | E17: kies een optie | J17: 0 | K17: 0 | L17: 0 | M17: 0 | N17: 0
A18: 12 | C18: Kies een optie | D18: =IF($C18='gegevens rekenblad'!$A$17,"Roerend",IF('overzicht gunningen'!$C18='gegevens rekenblad'!$A$12,"","Onroerend")) | E18: kies een optie | J18: 0 | K18: 0 | L18: 0 | M18: 0 | N18: 0
... A21: 15 | C21: Kies een optie | D21: =IF($C21='gegevens rekenblad'!$A$17,"Roerend",IF('overzicht gunningen'!$C21='gegevens rekenblad'!$A$12,"","Onroerend")) | E21: kies een optie | J21: 0 | K21: 0 | L21: 0 | M21: 0 | N21: 0
I23: totaal | J23: =SUM(J7:J21) -> 0 | K23: =SUM(K7:K21) -> 0 | N23: =SUM(N7:N21) -> 0

Sheet draaitabel
A1: ='overzicht gunningen'!B2 -> Naam voorziening | B1: ='overzicht gunningen'!C2 -> 0 | D1: Dit tabblad is optioneel: wenst u zelf de analyse te bekijken op het laatste tabblad, vernieuw dan onderstaande draaitabel na het invullen van tabblad 1. (rechtermuisknop in cel C4 > Vernieuwen)
A2: ='overzicht gunningen'!B3 -> VIPA projectnummer | B2: ='overzicht gunningen'!C3 -> 0
B4: raming PA of SB | C4: Rijlabels | D4: Som van Raming | E4: Som van Gunningsbedrag | F4: Som van Eindafrekening
A5: 1 Ruwbouw | B5: 0 | C5: Eindtotaal
A6: 2 Technische Uitrusting | B6: 0
A7: 3 Afwerking | B7: 0
A8: 4 Los meubilair | B8: 0
A9: omgevingswerken | B9: 0
A10: afbraakwerken | B10: 0
A11: kunstwerk | B11: 0
A12: onroerend - gebouw | B12: =B5+B6+B7 -> 0
A13: roerend - gebouw | B13: =B8 -> 0
B15: BLAUW = eventueel zelf in te vullen op basis van raming bij principieel akkoord of bij subsidiebelofte

Sheet analyse_eindafrekening
A1: Naam voorziening | B1: ='overzicht gunningen'!C2 -> 0 | D1: BLAUW = in te vullen voor analyse bouwkost/m²
A2: VIPA projectnummer | B2: ='overzicht gunningen'!C3 -> 0
A3: Kostensoort | B3: Kies een optie
A5: Kostenevolutie | B5: (1) Raming PA / SB | D5: (2) Raming voor aanbesteding | F5: (3) Gunning | H5: (4) Eindafrekening
A6: PF1 Ruwbouw | B6: =draaitabel!B5 -> 0 | D6: =GETPIVOTDATA("Som van Raming",draaitabel!$C$4,"Projectonderdeel","1 Ruwbouw","Onroerend of roerend ","Onroerend") -> #REF! | F6: =GETPIVOTDATA("Som van Gunningsbedrag",draaitabel!$C$4,"Projectonderdeel","1 Ruwbouw","Onroerend of roerend ","Onroerend") -> #REF! | H6: =GETPIVOTDATA("Som van Eindafrekening",draaitabel!$C$4,"Projectonderdeel","1 Ruwbouw","Onroerend of roerend ","Onroerend") -> #REF!
A7: PF2 Techn. Uitrusting | B7: =draaitabel!B6 -> 0 | D7: =GETPIVOTDATA("Som van Raming",draaitabel!$C$4,"Projectonderdeel","2 Technische Uitrusting","Onroerend of roerend ","Onroerend") -> #REF! | F7: =GETPIVOTDATA("Som van Gunningsbedrag",draaitabel!$C$4,"Projectonderdeel","2 Technische Uitrusting","Onroerend of roerend ","Onroerend") -> #REF! | H7: =GETPIVOTDATA("Som van Eindafrekening",draaitabel!$C$4,"Projectonderdeel","2 Technische Uitrusting","Onroerend of roerend ","Onroerend") -> #REF!
A8: PF3 Afwerking | B8: =draaitabel!B7 -> 0 | D8: =GETPIVOTDATA("Som van Raming",draaitabel!$C$4,"Projectonderdeel","3 Afwerking","Onroerend of roerend ","Onroerend") -> #REF! | F8: =GETPIVOTDATA("Som van Gunningsbedrag",draaitabel!$C$4,"Projectonderdeel","3 Afwerking","Onroerend of roerend ","Onroerend") -> #REF! | H8: =GETPIVOTDATA("Som van Eindafrekening",draaitabel!$C$4,"Projectonderdeel","3 Afwerking","Onroerend of roerend ","Onroerend") -> #REF!
A9: Subtotaal PF1-2-3 | B9: =SUM(B6:B8) -> 0 | D9: =SUM(D6:D8) -> #REF! | F9: =SUM(F6:F8) -> #REF! | H9: =SUM(H6:H8) -> #REF!
A10: PF4 Losse uitrusting en meubilering | B10: =draaitabel!B8 -> 0 | D10: =GETPIVOTDATA("Som van Raming",draaitabel!$C$4,"Projectonderdeel","4 Los meubilair","Onroerend of roerend ","Roerend") -> #REF! | F10: =GETPIVOTDATA("Som van Gunningsbedrag",draaitabel!$C$4,"Projectonderdeel","4 Los meubilair","Onroerend of roerend ","Roerend") -> #REF! | H10: =GETPIVOTDATA("Som van Eindafrekening",draaitabel!$C$4,"Projectonderdeel","4 Los meubilair","Onroerend of roerend ","Roerend") -> #REF!
A11: Totaal - gebouw | B11: =SUM(B9:B10) -> 0 | D11: =SUM(D9+D10) -> #REF! | F11: =SUM(F9:F10) -> #REF! | H11: =SUM(H9:H10) -> #REF!
A12: Omgevingswerken | B12: =draaitabel!B9 -> 0 | D12: =GETPIVOTDATA("Som van Raming",draaitabel!$C$4,"Projectonderdeel","Omgevingswerken","Onroerend of roerend ","Onroerend") -> #REF! | F12: =GETPIVOTDATA("Som van Gunningsbedrag",draaitabel!$C$4,"Projectonderdeel","Omgevingswerken","Onroerend of roerend ","Onroerend") -> #REF! | H12: =GETPIVOTDATA("Som van Eindafrekening",draaitabel!$C$4,"Projectonderdeel","Omgevingswerken","Onroerend of roerend ","Onroerend") -> #REF!
A13: Afbraakwerken | B13: =draaitabel!B10 -> 0 | D13: =GETPIVOTDATA("Som van Raming",draaitabel!$C$4,"Projectonderdeel","Afbraakwerken","Onroerend of roerend ","Onroerend") -> #REF! | F13: =GETPIVOTDATA("Som van Gunningsbedrag",draaitabel!$C$4,"Projectonderdeel","Afbraakwerken","Onroerend of roerend ","Onroerend") -> #REF! | H13: =GETPIVOTDATA("Som van Eindafrekening",draaitabel!$C$4,"Projectonderdeel","Afbraakwerken","Onroerend of roerend ","Onroerend") -> #REF!
A14: Kunstwerk | B14: =draaitabel!B11 -> 0 | H14: 0
A15: Totaal | B15: =B11+B12+B13 -> 0 | D15: =D11+D12+D13 -> #REF! | F15: =F11+F12+F13 -> #REF! | H15: =H11+H12+H13 -> #REF!
A17: Oppervlakte | B17: (1) bij PA / SB | D17: (2) Voor aanbesteding | F17: (3) bij gunning | H17: (4) Oplevering
A18: oppervlakte gebouw (bruto) | B18: 0 | C18: m² | D18: 0 | E18: m² | F18: 0 | G18: m² | H18: 0 | I18: m²
A19: oppervlakte omgevingswerken | B19: 0 | C19: m² | D19: 0 | E19: m² | F19: 0 | G19: m² | H19: 0 | I19: m²
A21: Jaar | B21: 0 | D21: 0 | F21: 0 | H21: 0
A23: Bouwkost / m² | B23: (1) Raming PA / SB | D23: (2) Raming voor aanbesteding | F23: (3) Gunning | H23: (4) Eindafrekening
A24: Bouwkost excl. meubilair / m² | B24: =SUM(draaitabel!B5:B7)/B18 -> #DIV/0! | C24: /m² | D24: =SUMIF('overzicht gunningen'!D7:D21,"Onroerend",'overzicht gunningen'!J7:J21)/D18 -> #DIV/0! | E24: /m² | F24: =SUMIF('overzicht gunningen'!D7:D21,"Onroerend",'overzicht gunningen'!K7:K21)/F18 -> #DIV/0! | G24: /m² | H24: =SUMIF('overzicht gunningen'!D7:D21,"Onroerend",'overzicht gunningen'!N7:N21)/H18 -> #DIV/0! | I24: /m²
A25: Bouwkost incl. meubilair/m² | B25: =SUM(draaitabel!B5:B8)/B18 -> #DIV/0! | C25: /m² | D25: =(SUMIF('overzicht gunningen'!D7:D21,"Onroerend",'overzicht gunningen'!J7:J21)+SUMIF('overzicht gunningen'!D7:D21,"Roerend",'overzicht gunningen'!J7:J21))/D18 -> #DIV/0! | E25: /m² | F25: =(SUMIF('overzicht gunningen'!D7:D21,"Onroerend",'overzicht gunningen'!K7:K21)+SUMIF('overzicht gunningen'!D7:D21,"Roerend",'overzicht gunningen'!K7:K21))/F18 -> #DIV/0! | G25: /m² | H25: =(SUMIF('overzicht gunningen'!D7:D21,"Onroerend",'overzicht gunningen'!N7:N21)+SUMIF('overzicht gunningen'!D7:D21,"Roerend",'overzicht gunningen'!N7:N21))/H18 -> #DIV/0! | I25: /m²
A26: Bouwkost meubilair/m² | B26: =draaitabel!B8/B18 -> #DIV/0! | C26: /m² | D26: =SUMIF('overzicht gunningen'!D7:D21,"Roerend",'overzicht gunningen'!J7:J21)/D18 -> #DIV/0! | E26: /m² | F26: =SUMIF('overzicht gunningen'!D7:D21,"Roerend",'overzicht gunningen'!K7:K21)/F18 -> #DIV/0! | G26: /m² | H26: =SUMIF('overzicht gunningen'!D7:D21,"Roerend",'overzicht gunningen'!N7:N21)/H18 -> #DIV/0! | I26: /m²
A28: VIPA bouwplafond excl. meubilair /m² | B28: =IF(B3='gegevens rekenblad'!F20,B49*B52*10/6*75%,B49*B52*10/6) -> #N/A | C28: /m² | D28: =IF(B3='gegevens rekenblad'!F20,B49*D52*10/6*75%,B49*D52*10/6) -> #N/A | E28: /m² | F28: =IF(B3='gegevens rekenblad'!F20,B49*F52*10/6*75%,B49*F52*10/6) -> #N/A | G28: /m² | H28: =IF(B3='gegevens rekenblad'!F20,B49*H52*10/6*75%,B49*H52*10/6) -> #N/A | I28: /m²
A29: Verhouding tot VIPA bouwplafond | B29: =+B24/B28 -> #DIV/0! | D29: =+D24/D28 -> #DIV/0! | F29: =+F24/F28 -> #DIV/0! | H29: =+H24/H28 -> #DIV/0!
A30: VIPA bouwplafond incl. meubilair /m² | B30: =B28+B32 -> #N/A | C30: /m² | D30: =D28+D32 -> #N/A | E30: /m² | F30: =F28+F32 -> #N/A | G30: /m² | H30: =H28+H32 -> #N/A | I30: /m²
A31: Verhouding tot VIPA bouwplafond | B31: =B25/B30 -> #DIV/0! | D31: =D25/D30 -> #DIV/0! | F31: =F25/F30 -> #DIV/0! | H31: =H25/H30 -> #DIV/0!
A32: VIPA bouwplafond meubilair/m² | B32: =B50*B52*10/6 -> #N/A | C32: /m² | D32: =B50*D52*10/6 -> #N/A | E32: /m² | F32: =B50*F52*10/6 -> #N/A | G32: /m² | H32: =B50*H52*10/6 -> #N/A | I32: /m²
A33: Verhouding tot VIPA bouwplafond | B33: =B26/B32 -> #DIV/0! | D33: =D26/D32 -> #DIV/0! | F33: =F26/F32 -> #DIV/0! | H33: =H26/H32 -> #DIV/0!
B34: let op = bouwplafond excl. meubilair *75% bij een verbouwing
A36: Omgevingswerken/m² | B36: =B12/B19 -> #DIV/0! | D36: =D12/D19 -> #REF! | F36: =F12/F19 -> #REF! | H36: =H12/H19 -> #REF!
A38: Kostenevolutie tussen de fasen | B38: tussen (1) - (2) | D38: tussen (2)-(3) | F38: tussen (3)-(4) | H38: tussen (1) - (4)
A39: PF1 Ruwbouw | B39: =D6-B6 -> #REF! | C39: =D6/B6 -> #REF! | D39: =F6-D6 -> #REF! | E39: =F6/D6 -> #REF! | F39: =H6-F6 -> #REF! | G39: =H6/F6 -> #REF! | H39: =H6-B6 -> #REF! | I39: =H6/B6 -> #REF!
A40: PF2 Techn. Uitrusting | B40: =D7-B7 -> #REF! | C40: =D7/B7 -> #REF! | D40: =F7-D7 -> #REF! | E40: =F7/D7 -> #REF! | F40: =H7-F7 -> #REF! | G40: =H7/F7 -> #REF! | H40: =H7-B7 -> #REF! | I40: =H7/B7 -> #REF!
A41: PF3 Afwerking | B41: =D8-B8 -> #REF! | C41: =D8/B8 -> #REF! | D41: =F8-D8 -> #REF! | E41: =F8/D8 -> #REF! | F41: =H8-F8 -> #REF! | G41: =H8/F8 -> #REF! | H41: =H8-B8 -> #REF! | I41: =H8/B8 -> #REF!
A42: Subtotaal PF1-2-3 | B42: =D9-B9 -> #REF! | C42: =D9/B9 -> #REF! | D42: =F9-D9 -> #REF! | E42: =F9/D9 -> #REF! | F42: =H9-F9 -> #REF! | G42: =H9/F9 -> #REF! | H42: =H9-B9 -> #REF! | I42: =H9/B9 -> #REF!
A43: PF4 Losse uitrusting en meubilering | B43: =D10-B10 -> #REF! | C43: =D10/B10 -> #REF! | D43: =F10-D10 -> #REF! | E43: =F10/D10 -> #REF! | F43: =H10-F10 -> #REF! | G43: =H10/F10 -> #REF! | H43: =H10-B10 -> #REF! | I43: =H10/B10 -> #REF!
A44: Totaal | B44: =D11-B11 -> #REF! | C44: =D11/B11 -> #REF! | D44: =F11-D11 -> #REF! | E44: =F11/D11 -> #REF! | F44: =H11-F11 -> #REF! | G44: =H11/F11 -> #REF! | H44: =H11-B11 -> #REF! | I44: =H11/B11 -> #REF!
A45: Omgevingswerken | B45: =D12-B12 -> #REF! | C45: =D12/H12 -> #REF! | D45: =F12-D12 -> #REF! | E45: =F12/D12 -> #REF! | F45: =H12-F12 -> #REF! | G45: =H12/F12 -> #REF! | H45: =H12-B12 -> #REF! | I45: =H12/B12 -> #REF!
A46: Afbraakwerken | B46: =D13-B13 -> #REF! | C46: =D13/B13 -> #REF! | D46: =F13-D13 -> #REF! | E46: =F13/D13 -> #REF! | F46: =H13-F13 -> #REF! | G46: =H13/F13 -> #REF! | H46: =H13-B13 -> #REF! | I46: =H13/B13 -> #REF!
A48: VIPA basisgegevens
A49: basisbedrag werken | B49: 500 | D49: hier het juiste basisbedrag invullen voor werken (450, 500, 525 of 550)
A50: basisbedrag meubilair | B50: 50 | D50: http://www4wvg.vlaanderen.be/wvg/vipa/paginas/basisbedragen_investeringssubsidies.aspx
A51: oppervlakte / capaciteitseenheid | B51: 65
A52: index | B52: =VLOOKUP(analyse_eindafrekening!B21,'gegevens rekenblad'!$A$24:$B$31,2,FALSE) -> #N/A | D52: =VLOOKUP(analyse_eindafrekening!D21,'gegevens rekenblad'!$A$24:$B$31,2,FALSE) -> #N/A | F52: =VLOOKUP(analyse_eindafrekening!F21,'gegevens rekenblad'!$A$24:$B$31,2,FALSE) -> #N/A | H52: =VLOOKUP(analyse_eindafrekening!H21,'gegevens rekenblad'!$A$24:$B$31,2,FALSE) -> #N/A

Sheet gegevens rekenblad
A2: kies een optie | I2: 2009
A3: open aanbesteding | I3: 2010
A4: beperkte aanbesteding | I4: 2011
A5: open offerteaanvraag | I5: 2012
A6: beperkte offerteaanvraag | I6: 2013
A7: vereenv. onderhandelingsprocedure met bekendmaking | I7: 2014
A8: onderhandelingsprocedure met bekendmaking | I8: 2015
A9: onderhandelingsprocedure zonder bekendmaking | I9: 2016
A12: Kies een optie
A13: 1 Ruwbouw
A14: 2 Technische Uitrusting | F14: Onroerend
A15: 3 Afwerking | F15: Roerend
A16: 3 Vast meubilair
A17: 4 Los meubilair | F17: Kies een optie
A18: Afbraakwerken | F18: Nieuwbouw
A19: Omgevingswerken | F19: Uitbreiding
A20: Andere | F20: Verbouwing
A23: index
A24: 2009 | B24: 1.49761
A25: 2010 | B25: 1.49139
A26: 2011 | B26: 1.57367
A27: 2012 | B27: 1.62044
A28: 2013 | B28: 1.63645
A29: 2014 | B29: 1.62441
A30: 2015 | B30: 1.62165
A31: 2016 | B31: 1.56503
